BEGIN:VCALENDAR
VERSION:2.0
PRODID:-//WMOTA - ECPv6.15.20//NONSGML v1.0//EN
CALSCALE:GREGORIAN
METHOD:PUBLISH
X-WR-CALNAME:WMOTA
X-ORIGINAL-URL:https://wmota.org
X-WR-CALDESC:Events for WMOTA
REFRESH-INTERVAL;VALUE=DURATION:PT1H
X-Robots-Tag:noindex
X-PUBLISHED-TTL:PT1H
BEGIN:VTIMEZONE
TZID:America/Phoenix
BEGIN:STANDARD
TZOFFSETFROM:-0700
TZOFFSETTO:-0700
TZNAME:MST
DTSTART:20250101T000000
END:STANDARD
END:VTIMEZONE
BEGIN:VEVENT
DTSTART;TZID=America/Phoenix:20260514T180000
DTEND;TZID=America/Phoenix:20260514T190000
DTSTAMP:20260424T012737
CREATED:20260315T200815Z
LAST-MODIFIED:20260316T043450Z
UID:488-1778781600-1778785200@wmota.org
SUMMARY:WMOTA May Meeting
DESCRIPTION:If you plan to eat\, please arrive at 5PM… meeting starts at 6PM sharp!
URL:https://wmota.org/event/__trashed/
LOCATION:Dickey’s Barbecue Pit\, 3068 W White Mountain Blvd\, Pinetop-Lakeside\, AZ\, 85929\, United States
CATEGORIES:Monthly Meeting
ATTACH;FMTTYPE=image/png:https://wmota.org/wp-content/uploads/2024/02/cropped-cropped-wmota_logo.png
END:VEVENT
BEGIN:VEVENT
DTSTART;VALUE=DATE:20260523
DTEND;VALUE=DATE:20260524
DTSTAMP:20260424T012737
CREATED:20260316T044648Z
LAST-MODIFIED:20260316T044820Z
UID:508-1779494400-1779580799@wmota.org
SUMMARY:WMOTA May Ride TBA
DESCRIPTION:
URL:https://wmota.org/event/wmota-may-ride-tba/
CATEGORIES:Monthly Ride
ATTACH;FMTTYPE=image/png:https://wmota.org/wp-content/uploads/2024/02/cropped-cropped-wmota_logo.png
END:VEVENT
BEGIN:VEVENT
DTSTART;TZID=America/Phoenix:20260611T180000
DTEND;TZID=America/Phoenix:20260611T190000
DTSTAMP:20260424T012737
CREATED:20260316T043701Z
LAST-MODIFIED:20260316T044129Z
UID:497-1781200800-1781204400@wmota.org
SUMMARY:WMOTA JUNE MEETING
DESCRIPTION:If you plan to eat\, please arrive at 5PM… meeting starts at 6PM sharp!
URL:https://wmota.org/event/wmota-june-meeting-3/
LOCATION:Dickey’s Barbecue Pit\, 3068 W White Mountain Blvd\, Pinetop-Lakeside\, AZ\, 85929\, United States
CATEGORIES:Monthly Meeting
ATTACH;FMTTYPE=image/png:https://wmota.org/wp-content/uploads/2024/02/cropped-cropped-wmota_logo.png
END:VEVENT
BEGIN:VEVENT
DTSTART;VALUE=DATE:20260620
DTEND;VALUE=DATE:20260621
DTSTAMP:20260424T012737
CREATED:20260316T045311Z
LAST-MODIFIED:20260316T045311Z
UID:511-1781913600-1781999999@wmota.org
SUMMARY:WMOTA June Ride TBA
DESCRIPTION:
URL:https://wmota.org/event/wmota-june-ride-tba/
CATEGORIES:Monthly Ride
ATTACH;FMTTYPE=image/png:https://wmota.org/wp-content/uploads/2024/02/cropped-cropped-wmota_logo.png
END:VEVENT
BEGIN:VEVENT
DTSTART;TZID=America/Phoenix:20260709T180000
DTEND;TZID=America/Phoenix:20260709T190000
DTSTAMP:20260424T012737
CREATED:20260316T043819Z
LAST-MODIFIED:20260316T044116Z
UID:499-1783620000-1783623600@wmota.org
SUMMARY:WMOTA JULY MEETING
DESCRIPTION:If you plan to eat\, please arrive at 5PM… meeting starts at 6PM sharp!
URL:https://wmota.org/event/wmota-july-meeting-3/
LOCATION:Dickey’s Barbecue Pit\, 3068 W White Mountain Blvd\, Pinetop-Lakeside\, AZ\, 85929\, United States
CATEGORIES:Monthly Meeting
ATTACH;FMTTYPE=image/png:https://wmota.org/wp-content/uploads/2024/02/cropped-cropped-wmota_logo.png
END:VEVENT
BEGIN:VEVENT
DTSTART;VALUE=DATE:20260718
DTEND;VALUE=DATE:20260719
DTSTAMP:20260424T012737
CREATED:20260316T045416Z
LAST-MODIFIED:20260316T045416Z
UID:514-1784332800-1784419199@wmota.org
SUMMARY:WMOTA July Ride TBA
DESCRIPTION:
URL:https://wmota.org/event/wmota-july-ride-tba/
CATEGORIES:Monthly Ride
ATTACH;FMTTYPE=image/png:https://wmota.org/wp-content/uploads/2024/02/cropped-cropped-wmota_logo.png
END:VEVENT
BEGIN:VEVENT
DTSTART;TZID=America/Phoenix:20260813T180000
DTEND;TZID=America/Phoenix:20260813T190000
DTSTAMP:20260424T012737
CREATED:20260316T043938Z
LAST-MODIFIED:20260316T044104Z
UID:501-1786644000-1786647600@wmota.org
SUMMARY:WMOTA AUGUST MEETING
DESCRIPTION:If you plan to eat\, please arrive at 5PM… meeting starts at 6PM sharp!
URL:https://wmota.org/event/wmota-august-meeting-3/
LOCATION:Dickey’s Barbecue Pit\, 3068 W White Mountain Blvd\, Pinetop-Lakeside\, AZ\, 85929\, United States
CATEGORIES:Monthly Meeting
ATTACH;FMTTYPE=image/png:https://wmota.org/wp-content/uploads/2024/02/cropped-cropped-wmota_logo.png
END:VEVENT
BEGIN:VEVENT
DTSTART;VALUE=DATE:20260822
DTEND;VALUE=DATE:20260823
DTSTAMP:20260424T012737
CREATED:20260316T045542Z
LAST-MODIFIED:20260316T045542Z
UID:516-1787356800-1787443199@wmota.org
SUMMARY:WMOTA August Ride TBA
DESCRIPTION:
URL:https://wmota.org/event/wmota-august-ride-tba/
CATEGORIES:Monthly Ride
ATTACH;FMTTYPE=image/png:https://wmota.org/wp-content/uploads/2024/02/cropped-cropped-wmota_logo.png
END:VEVENT
BEGIN:VEVENT
DTSTART;TZID=America/Phoenix:20260910T080000
DTEND;TZID=America/Phoenix:20260910T170000
DTSTAMP:20260424T012737
CREATED:20260316T044049Z
LAST-MODIFIED:20260316T044049Z
UID:503-1789027200-1789059600@wmota.org
SUMMARY:WMOTA SEPTEMBER MEETING
DESCRIPTION:If you plan to eat\, please arrive at 5PM… meeting starts at 6PM sharp!
URL:https://wmota.org/event/wmota-september-meeting-3/
LOCATION:Dickey’s Barbecue Pit\, 3068 W White Mountain Blvd\, Pinetop-Lakeside\, AZ\, 85929\, United States
CATEGORIES:Monthly Meeting
ATTACH;FMTTYPE=image/png:https://wmota.org/wp-content/uploads/2024/02/cropped-cropped-wmota_logo.png
END:VEVENT
BEGIN:VEVENT
DTSTART;VALUE=DATE:20260919
DTEND;VALUE=DATE:20260920
DTSTAMP:20260424T012737
CREATED:20260316T045651Z
LAST-MODIFIED:20260316T045651Z
UID:518-1789776000-1789862399@wmota.org
SUMMARY:WMOTA September Ride TBA
DESCRIPTION:
URL:https://wmota.org/event/wmota-september-ride-tba/
CATEGORIES:Monthly Ride
ATTACH;FMTTYPE=image/png:https://wmota.org/wp-content/uploads/2024/02/cropped-cropped-wmota_logo.png
END:VEVENT
BEGIN:VEVENT
DTSTART;TZID=America/Phoenix:20261008T180000
DTEND;TZID=America/Phoenix:20261008T190000
DTSTAMP:20260424T012737
CREATED:20260316T044301Z
LAST-MODIFIED:20260316T044301Z
UID:505-1791482400-1791486000@wmota.org
SUMMARY:WMOTA OCTOBER MEETING
DESCRIPTION:If you plan to eat\, please arrive at 5PM… meeting starts at 6PM sharp!
URL:https://wmota.org/event/wmota-october-meeting-3/
LOCATION:Dickey’s Barbecue Pit\, 3068 W White Mountain Blvd\, Pinetop-Lakeside\, AZ\, 85929\, United States
CATEGORIES:Monthly Meeting
ATTACH;FMTTYPE=image/png:https://wmota.org/wp-content/uploads/2024/02/cropped-cropped-wmota_logo.png
END:VEVENT
BEGIN:VEVENT
DTSTART;VALUE=DATE:20261017
DTEND;VALUE=DATE:20261018
DTSTAMP:20260424T012737
CREATED:20260316T045747Z
LAST-MODIFIED:20260316T045747Z
UID:520-1792195200-1792281599@wmota.org
SUMMARY:WMOTA October Ride TBA
DESCRIPTION:
URL:https://wmota.org/event/wmota-october-ride-tba/
CATEGORIES:Monthly Ride
ATTACH;FMTTYPE=image/png:https://wmota.org/wp-content/uploads/2024/02/cropped-cropped-wmota_logo.png
END:VEVENT
END:VCALENDAR