BEGIN:VCALENDAR
VERSION:2.0
PRODID:-//WMOTA - ECPv6.15.20//NONSGML v1.0//EN
CALSCALE:GREGORIAN
METHOD:PUBLISH
X-ORIGINAL-URL:https://wmota.org
X-WR-CALDESC:Events for WMOTA
REFRESH-INTERVAL;VALUE=DURATION:PT1H
X-Robots-Tag:noindex
X-PUBLISHED-TTL:PT1H
BEGIN:VTIMEZONE
TZID:America/Phoenix
BEGIN:STANDARD
TZOFFSETFROM:-0700
TZOFFSETTO:-0700
TZNAME:MST
DTSTART:20230101T000000
END:STANDARD
END:VTIMEZONE
BEGIN:VEVENT
DTSTART;TZID=America/Phoenix:20250507T170000
DTEND;TZID=America/Phoenix:20250507T190000
DTSTAMP:20260420T032336
CREATED:20250527T170258Z
LAST-MODIFIED:20250530T004309Z
UID:189-1746637200-1746644400@wmota.org
SUMMARY:WMOTA May Meeting
DESCRIPTION:If you plan to eat\, please arrive at 5PM… meeting starts at 6PM sharp! \nWMOTA MAY 7. 2025 MINUTES\nJack called the meeting to order at 6 P.M. \nBoard Members Present: Jack\, Karen and Judy\, Don was Absent. \nSecretary: There were 2 corrections made\, to the minutes.  Karen made a motion to accept the minutes and Jane 2nd it. \nMembership: We have about 60+ members. \nJack talked about the last ride which had 16 machines.  Several machines went back a different direction. \nNate gave a talk on the new website. We watched a video to help explain what it will be like.  Each person needs to register online to help set up the website. After you are approved Nate will let you know when you can go in and set your username and password setup. \nJerry talked about the Alpine Trail.  Working On permission to use the trail thru State Trust land.  We did get permission for 3 miles for the Alpine Trail. \nNate will do the May ride info to follow later.  Paul will do a ride on the 14th in Heber. \n50/50 was won by Chuck. \nBeth made a motion to close the meeting at 6.50 p.m.\, Polly 2nd the motion. \n  \nJudy Koski\, Secretary \n 
URL:https://wmota.org/event/wmota-may-meeting-2/
LOCATION:Dickey’s Barbecue Pit\, 3068 W White Mountain Blvd\, Pinetop-Lakeside\, AZ\, 85929\, United States
CATEGORIES:Monthly Meeting
ATTACH;FMTTYPE=image/png:https://wmota.org/wp-content/uploads/2024/02/cropped-cropped-wmota_logo.png
END:VEVENT
BEGIN:VEVENT
DTSTART;VALUE=DATE:20250424
DTEND;VALUE=DATE:20250425
DTSTAMP:20260420T032336
CREATED:20250410T175150Z
LAST-MODIFIED:20250507T181231Z
UID:241-1745452800-1745539199@wmota.org
SUMMARY:WMOTA April Ride - "DATE CHANGE"
DESCRIPTION:If you’ve been paying attention\, you may have realized that WMOTA’s normal ride date for April this year would fall on the Saturday of Easter weekend.  It has been decided not to ride on that holiday weekend.  Instead\, the club will ride on Thursday\, April 24th.  We’re riding a Salt River Canyon ride. \n  \nStaging – Chuck Wood is the ride leader for this ride and Chuck will lead a convoy from the Cal Ranch Parking area to the staging area.  Chuck’s convoy will leave the parking area at 07:30 AM.  It’s about 55-miles to staging and Google says it will take about 1 hour.  However\, there is a bathroom at the bottom of the canyon\, and many may wish to have a comfort stop there. \n  \nThe Club has staged from this location before and if you don’t want to convey the google map link below is to the staging area.  Please be there in plenty of time to unload and ready to ride NLT 09:00 AM. \nhttps://www.google.com/maps/dir/34.2410401\,-110.0593634/33.7137357\,-110.5348864/@33.7140737\,-110.5351707\,237m/data=!3m1!1e3!4m2!4m1!3e0?entry=ttu&g_ep=EgoyMDI1MDQwOC4wIKXMDSoASAFQAw%3D%3D \n  \nAs always\, bring your gear\, your lunch and plenty of fluids for hydration.  We’ll be riding from staging to the bottom of the canyon and having lunch along the river.  \n  \nRecorded Track: https://drive.google.com/file/d/12eRqZb1xY9jnNgzExzA-_ETU429zVwKx/view?usp=drive_link
URL:https://wmota.org/event/wmota-april-ride-2/
LOCATION:AZ
CATEGORIES:Monthly Ride
ATTACH;FMTTYPE=image/png:https://wmota.org/wp-content/uploads/2024/02/cropped-cropped-wmota_logo.png
END:VEVENT
BEGIN:VEVENT
DTSTART;TZID=America/Phoenix:20250410T170000
DTEND;TZID=America/Phoenix:20250410T190000
DTSTAMP:20260420T032336
CREATED:20250112T224335Z
LAST-MODIFIED:20250425T173235Z
UID:181-1744304400-1744311600@wmota.org
SUMMARY:WMOTA April Meeting
DESCRIPTION:If you plan to eat\, please arrive at 5PM… meeting starts at 6PM sharp!
URL:https://wmota.org/event/wmota-april-meeting-2/
LOCATION:Dickey’s Barbecue Pit\, 3068 W White Mountain Blvd\, Pinetop-Lakeside\, AZ\, 85929\, United States
CATEGORIES:Monthly Meeting
ATTACH;FMTTYPE=image/png:https://wmota.org/wp-content/uploads/2024/02/cropped-cropped-wmota_logo.png
END:VEVENT
BEGIN:VEVENT
DTSTART;TZID=America/Phoenix:20241102T090000
DTEND;TZID=America/Phoenix:20241102T170000
DTSTAMP:20260420T032336
CREATED:20241017T191536Z
LAST-MODIFIED:20250425T173828Z
UID:168-1730538000-1730566800@wmota.org
SUMMARY:WMOTA November Ride
DESCRIPTION:Our November Ride will be out to Trappers in Taylor for lunch and back. \nLet’s meet at the Lone Pine Dam – Maverick Trail Trailhead (off Burton Rd.) and be prepared to leave at 9AM. \nHere is a map link to the trail head: \nLone Pine Dam – Maverick Trail Trailhead \nIf the weather doesn’t work out for Nov 2nd\, we will postpone and see how Nov 9th looks. \n  \n 
URL:https://wmota.org/event/wmota-november-ride/
LOCATION:AZ
CATEGORIES:Monthly Ride
ATTACH;FMTTYPE=image/png:https://wmota.org/wp-content/uploads/2024/02/cropped-wmota_logo.png
END:VEVENT
BEGIN:VEVENT
DTSTART;TZID=America/Phoenix:20241010T170000
DTEND;TZID=America/Phoenix:20241010T190000
DTSTAMP:20260420T032336
CREATED:20240207T171535Z
LAST-MODIFIED:20240207T174701Z
UID:99-1728579600-1728586800@wmota.org
SUMMARY:WMOTA October Meeting
DESCRIPTION:If you plan to eat\, please arrive at 5PM… meeting starts at 6PM sharp! \nNon-members are welcome!
URL:https://wmota.org/event/wmota-october-meeting/
LOCATION:Dickey’s Barbecue Pit\, 3068 W White Mountain Blvd\, Pinetop-Lakeside\, AZ\, 85929\, United States
CATEGORIES:Monthly Meeting
ATTACH;FMTTYPE=image/png:https://wmota.org/wp-content/uploads/2024/02/cropped-wmota_logo.png
END:VEVENT
BEGIN:VEVENT
DTSTART;TZID=America/Phoenix:20240921T080000
DTEND;TZID=America/Phoenix:20240921T170000
DTSTAMP:20260420T032336
CREATED:20240207T174333Z
LAST-MODIFIED:20240207T174652Z
UID:123-1726905600-1726938000@wmota.org
SUMMARY:WMOTA September Ride
DESCRIPTION:Ride details to be determined…
URL:https://wmota.org/event/wmota-september-ride/
LOCATION:AZ
CATEGORIES:Monthly Ride
ATTACH;FMTTYPE=image/png:https://wmota.org/wp-content/uploads/2024/02/cropped-wmota_logo.png
END:VEVENT
BEGIN:VEVENT
DTSTART;TZID=America/Phoenix:20240912T170000
DTEND;TZID=America/Phoenix:20240912T190000
DTSTAMP:20260420T032336
CREATED:20240207T171454Z
LAST-MODIFIED:20240207T174755Z
UID:97-1726160400-1726167600@wmota.org
SUMMARY:WMOTA September Meeting
DESCRIPTION:If you plan to eat\, please arrive at 5PM… meeting starts at 6PM sharp! \nNon-members are welcome!
URL:https://wmota.org/event/wmota-september-meeting/
LOCATION:Dickey’s Barbecue Pit\, 3068 W White Mountain Blvd\, Pinetop-Lakeside\, AZ\, 85929\, United States
CATEGORIES:Monthly Meeting
ATTACH;FMTTYPE=image/png:https://wmota.org/wp-content/uploads/2024/02/cropped-wmota_logo.png
END:VEVENT
BEGIN:VEVENT
DTSTART;TZID=America/Phoenix:20240817T080000
DTEND;TZID=America/Phoenix:20240817T170000
DTSTAMP:20260420T032336
CREATED:20240207T174301Z
LAST-MODIFIED:20240207T174810Z
UID:121-1723881600-1723914000@wmota.org
SUMMARY:WMOTA August Ride
DESCRIPTION:Ride details to be determined…
URL:https://wmota.org/event/wmota-august-ride/
LOCATION:AZ
CATEGORIES:Monthly Ride
ATTACH;FMTTYPE=image/png:https://wmota.org/wp-content/uploads/2024/02/cropped-wmota_logo.png
END:VEVENT
BEGIN:VEVENT
DTSTART;TZID=America/Phoenix:20240808T170000
DTEND;TZID=America/Phoenix:20240808T190000
DTSTAMP:20260420T032336
CREATED:20240207T171410Z
LAST-MODIFIED:20240207T171818Z
UID:95-1723136400-1723143600@wmota.org
SUMMARY:WMOTA August Meeting
DESCRIPTION:If you plan to eat\, please arrive at 5PM… meeting starts at 6PM sharp! \nNon-members are welcome!
URL:https://wmota.org/event/wmota-august-meeting/
LOCATION:Dickey’s Barbecue Pit\, 3068 W White Mountain Blvd\, Pinetop-Lakeside\, AZ\, 85929\, United States
CATEGORIES:Monthly Meeting
ATTACH;FMTTYPE=image/png:https://wmota.org/wp-content/uploads/2024/02/cropped-wmota_logo.png
END:VEVENT
BEGIN:VEVENT
DTSTART;TZID=America/Phoenix:20240727T080000
DTEND;TZID=America/Phoenix:20240727T170000
DTSTAMP:20260420T032336
CREATED:20240207T174225Z
LAST-MODIFIED:20240222T164640Z
UID:119-1722067200-1722099600@wmota.org
SUMMARY:WMOTA July Ride
DESCRIPTION:Ride details to be determined…
URL:https://wmota.org/event/wmota-july-ride/
LOCATION:AZ
CATEGORIES:Monthly Ride
ATTACH;FMTTYPE=image/png:https://wmota.org/wp-content/uploads/2024/02/cropped-wmota_logo.png
END:VEVENT
BEGIN:VEVENT
DTSTART;TZID=America/Phoenix:20240711T170000
DTEND;TZID=America/Phoenix:20240711T190000
DTSTAMP:20260420T032336
CREATED:20240207T171334Z
LAST-MODIFIED:20240207T185612Z
UID:93-1720717200-1720724400@wmota.org
SUMMARY:WMOTA July Meeting
DESCRIPTION:If you plan to eat\, please arrive at 5PM… meeting starts at 6PM sharp! \nNon-members are welcome!
URL:https://wmota.org/event/wmota-july-meeting/
LOCATION:Dickey’s Barbecue Pit\, 3068 W White Mountain Blvd\, Pinetop-Lakeside\, AZ\, 85929\, United States
CATEGORIES:Monthly Meeting
ATTACH;FMTTYPE=image/png:https://wmota.org/wp-content/uploads/2024/02/cropped-wmota_logo.png
END:VEVENT
BEGIN:VEVENT
DTSTART;TZID=America/Phoenix:20240622T080000
DTEND;TZID=America/Phoenix:20240622T170000
DTSTAMP:20260420T032336
CREATED:20240207T174151Z
LAST-MODIFIED:20240618T171301Z
UID:117-1719043200-1719075600@wmota.org
SUMMARY:WMOTA June Ride
DESCRIPTION:This month’s WMOTA ride will be on Saturday 6/22/2024 leaving at 9:00am sharp. Please come early enough to unload\, brief and be ready to start on time. There will be donuts and Orange Juice\, but not coffee.  If you want coffee feel free to bring your own. The ride will be a modified version of the Slaughter Circle due to current Forest Service restrictions. This means we won’t be able to go to the Black River overlook as originally planned. The current forecast indicates that there is a good chance of rain on Saturday\, the ride will still take place. Make sure to bring your rain gear.  Remember\, it’s not uncommon for the temperature to drop during rain showers\, so layer your clothing.  Please make sure your machines are in good working order and bring lots of hydration and bring your lunch. For communications\, we are using FRS/GMRS channel 7 which is frequency 462.7125. \nDirections to the staging location: \nFrom the intersection of SR 260 and SR 273 (the turn off to Sunrise) go 14.3 miles.  Turn right on FR116 heading towards Reservation Lake (you will see a toilet facility on the right side).  FR409 goes left at this turn which is the second time you will see a FR409 going left off 273.  Follow FR116 for almost 1 mile just past the corrals.  WMOTA will be staging to the right as shown on this Google Map link: \nhttps://maps.app.goo.gl/YCjwSBaeq2LKnCC47
URL:https://wmota.org/event/wmota-june-ride/
LOCATION:AZ
CATEGORIES:Monthly Ride
ATTACH;FMTTYPE=image/png:https://wmota.org/wp-content/uploads/2024/02/cropped-wmota_logo.png
END:VEVENT
BEGIN:VEVENT
DTSTART;TZID=America/Phoenix:20240613T170000
DTEND;TZID=America/Phoenix:20240613T190000
DTSTAMP:20260420T032336
CREATED:20240207T171257Z
LAST-MODIFIED:20240207T171806Z
UID:91-1718298000-1718305200@wmota.org
SUMMARY:WMOTA June Meeting
DESCRIPTION:If you plan to eat\, please arrive at 5PM… meeting starts at 6PM sharp! \nNon-members are welcome!
URL:https://wmota.org/event/wmota-june-meeting/
LOCATION:Dickey’s Barbecue Pit\, 3068 W White Mountain Blvd\, Pinetop-Lakeside\, AZ\, 85929\, United States
CATEGORIES:Monthly Meeting
ATTACH;FMTTYPE=image/png:https://wmota.org/wp-content/uploads/2024/02/cropped-wmota_logo.png
END:VEVENT
BEGIN:VEVENT
DTSTART;TZID=America/Phoenix:20240518T080000
DTEND;TZID=America/Phoenix:20240518T170000
DTSTAMP:20260420T032336
CREATED:20240207T174118Z
LAST-MODIFIED:20240517T171233Z
UID:115-1716019200-1716051600@wmota.org
SUMMARY:WMOTA May Ride
DESCRIPTION:WMOTA May 18th club ride – lead by Chuck & Pam Wood and Nate & Beth Leonard. The ride will combine two events\, a fun club ride and recording of the AZAT A & B tracks between the Ski Hy parking area (Google Maps calls it Blue Ridge Mountain Trailhead) and Highway 260 (where the Fr 117 ends at Highway 260). Part of the trail development for the AZAT is the riding and recording of the actual trail segments. The ride will depart from the staging area at 9 am\, lunch will be at the Sheep Corral. Total ride distance will be approximately 78 miles. The ride will be easy with no challenging sections. The ride will take you through some of the most beautiful areas of the White Mountains. If time permits and anyone wants to ride to the top of Greens Peak\, that can happen. Remember\, machine full of fuel and in good running order\, snacks\, water\, and lunch. We will be using the “Rotation Meadow” for traffic control and operating radios on FRS channel 7 or 462.7125 frequency. \nAdditional Information: Take 260 in Pinetop to the light at Buck Springs Rd. then turn Left to Sky High Rd (FR182) for approximately 1 to 1 1/2 miles. Staging area is on your left. \nRegards\, \nKaren – Treasurer of WMOTA
URL:https://wmota.org/event/wmota-may-ride/
LOCATION:AZ
CATEGORIES:Monthly Ride
ATTACH;FMTTYPE=image/png:https://wmota.org/wp-content/uploads/2024/02/cropped-wmota_logo.png
END:VEVENT
BEGIN:VEVENT
DTSTART;TZID=America/Phoenix:20240509T170000
DTEND;TZID=America/Phoenix:20240509T190000
DTSTAMP:20260420T032336
CREATED:20240207T171204Z
LAST-MODIFIED:20240207T171759Z
UID:89-1715274000-1715281200@wmota.org
SUMMARY:WMOTA May Meeting
DESCRIPTION:If you plan to eat\, please arrive at 5PM… meeting starts at 6PM sharp! \nNon-members are welcome!
URL:https://wmota.org/event/wmota-may-meeting/
LOCATION:Dickey’s Barbecue Pit\, 3068 W White Mountain Blvd\, Pinetop-Lakeside\, AZ\, 85929\, United States
CATEGORIES:Monthly Meeting
ATTACH;FMTTYPE=image/png:https://wmota.org/wp-content/uploads/2024/02/cropped-wmota_logo.png
END:VEVENT
BEGIN:VEVENT
DTSTART;TZID=America/Phoenix:20240420T080000
DTEND;TZID=America/Phoenix:20240420T170000
DTSTAMP:20260420T032336
CREATED:20240207T174022Z
LAST-MODIFIED:20240207T174022Z
UID:113-1713600000-1713632400@wmota.org
SUMMARY:WMOTA April Ride
DESCRIPTION:Ride details to be determined…
URL:https://wmota.org/event/wmota-april-ride/
LOCATION:AZ
CATEGORIES:Monthly Ride
ATTACH;FMTTYPE=image/png:https://wmota.org/wp-content/uploads/2024/02/cropped-wmota_logo.png
END:VEVENT
BEGIN:VEVENT
DTSTART;TZID=America/Phoenix:20240411T170000
DTEND;TZID=America/Phoenix:20240411T190000
DTSTAMP:20260420T032336
CREATED:20240207T170438Z
LAST-MODIFIED:20250425T172042Z
UID:85-1712854800-1712862000@wmota.org
SUMMARY:WMOTA April Meeting
DESCRIPTION:Our monthly meetings begin again starting in April! Get your machines all ready to go for a new year of rides and events! \nIf you plan to eat\, please arrive at 5PM… meeting starts at 6PM sharp! \nNon-members are welcome! \n  \nMeeting Notes
URL:https://wmota.org/event/wmota-april-meeting/
LOCATION:Dickey’s Barbecue Pit\, 3068 W White Mountain Blvd\, Pinetop-Lakeside\, AZ\, 85929\, United States
CATEGORIES:Monthly Meeting
ATTACH;FMTTYPE=image/png:https://wmota.org/wp-content/uploads/2024/02/cropped-wmota_logo.png
END:VEVENT
END:VCALENDAR